BEGIN:VCALENDAR
VERSION:2.0
PRODID:-//Honey Lilly Flowers - ECPv6.15.20//NONSGML v1.0//EN
CALSCALE:GREGORIAN
METHOD:PUBLISH
X-ORIGINAL-URL:https://akerle.profreed.com
X-WR-CALDESC:Events for Honey Lilly Flowers
REFRESH-INTERVAL;VALUE=DURATION:PT1H
X-Robots-Tag:noindex
X-PUBLISHED-TTL:PT1H
BEGIN:VTIMEZONE
TZID:America/Los_Angeles
BEGIN:DAYLIGHT
TZOFFSETFROM:-0800
TZOFFSETTO:-0700
TZNAME:PDT
DTSTART:20250309T100000
END:DAYLIGHT
BEGIN:STANDARD
TZOFFSETFROM:-0700
TZOFFSETTO:-0800
TZNAME:PST
DTSTART:20251102T090000
END:STANDARD
BEGIN:DAYLIGHT
TZOFFSETFROM:-0800
TZOFFSETTO:-0700
TZNAME:PDT
DTSTART:20260308T100000
END:DAYLIGHT
BEGIN:STANDARD
TZOFFSETFROM:-0700
TZOFFSETTO:-0800
TZNAME:PST
DTSTART:20261101T090000
END:STANDARD
BEGIN:DAYLIGHT
TZOFFSETFROM:-0800
TZOFFSETTO:-0700
TZNAME:PDT
DTSTART:20270314T100000
END:DAYLIGHT
BEGIN:STANDARD
TZOFFSETFROM:-0700
TZOFFSETTO:-0800
TZNAME:PST
DTSTART:20271107T090000
END:STANDARD
END:VTIMEZONE
BEGIN:VEVENT
DTSTART;TZID=America/Los_Angeles:20260610T170000
DTEND;TZID=America/Los_Angeles:20260610T190000
DTSTAMP:20260421T164119
CREATED:20260419T145134Z
LAST-MODIFIED:20260419T145159Z
UID:102-1781110800-1781118000@akerle.profreed.com
SUMMARY:Seasonal Centerpiece Workshop
DESCRIPTION:Create a lush\, seasonal centerpiece perfect for your table or a special gathering. In this workshop\, we’ll focus on texture\, color\, and movement while working with fresh\, in-season flowers to design something full and inviting.
URL:https://akerle.profreed.com/event/seasonal-centerpiece-workshop/
END:VEVENT
END:VCALENDAR