BEGIN:VCALENDAR
VERSION:2.0
PRODID:-//Honey Lilly Flowers - ECPv6.15.20//NONSGML v1.0//EN
CALSCALE:GREGORIAN
METHOD:PUBLISH
X-ORIGINAL-URL:https://akerle.profreed.com
X-WR-CALDESC:Events for Honey Lilly Flowers
REFRESH-INTERVAL;VALUE=DURATION:PT1H
X-Robots-Tag:noindex
X-PUBLISHED-TTL:PT1H
BEGIN:VTIMEZONE
TZID:America/Los_Angeles
BEGIN:DAYLIGHT
TZOFFSETFROM:-0800
TZOFFSETTO:-0700
TZNAME:PDT
DTSTART:20250309T100000
END:DAYLIGHT
BEGIN:STANDARD
TZOFFSETFROM:-0700
TZOFFSETTO:-0800
TZNAME:PST
DTSTART:20251102T090000
END:STANDARD
BEGIN:DAYLIGHT
TZOFFSETFROM:-0800
TZOFFSETTO:-0700
TZNAME:PDT
DTSTART:20260308T100000
END:DAYLIGHT
BEGIN:STANDARD
TZOFFSETFROM:-0700
TZOFFSETTO:-0800
TZNAME:PST
DTSTART:20261101T090000
END:STANDARD
BEGIN:DAYLIGHT
TZOFFSETFROM:-0800
TZOFFSETTO:-0700
TZNAME:PDT
DTSTART:20270314T100000
END:DAYLIGHT
BEGIN:STANDARD
TZOFFSETFROM:-0700
TZOFFSETTO:-0800
TZNAME:PST
DTSTART:20271107T090000
END:STANDARD
END:VTIMEZONE
BEGIN:VEVENT
DTSTART;TZID=America/Los_Angeles:20260520T170000
DTEND;TZID=America/Los_Angeles:20260520T190000
DTSTAMP:20260420T225342
CREATED:20260419T144849Z
LAST-MODIFIED:20260419T145046Z
UID:98-1779296400-1779303600@akerle.profreed.com
SUMMARY:Flower workshop
DESCRIPTION:Join us for a hands-on floral design workshop where you’ll learn the basics of arranging seasonal blooms. We’ll guide you through techniques for creating a balanced\, natural arrangement\, and you’ll leave with your own custom piece to enjoy at home.
URL:https://akerle.profreed.com/event/flower-workshop/
END:VEVENT
BEGIN:VEVENT
DTSTART;TZID=America/Los_Angeles:20260522T170000
DTEND;TZID=America/Los_Angeles:20260522T200000
DTSTAMP:20260420T225342
CREATED:20260419T144109Z
LAST-MODIFIED:20260419T144109Z
UID:93-1779469200-1779480000@akerle.profreed.com
SUMMARY:2026 Bride Live
DESCRIPTION:Join us for a relaxed Zoom with 2026 brides where we’ll answer common questions\, talk through floral options\, and help you feel confident moving forward with your wedding flowers.
URL:https://akerle.profreed.com/event/2026-bride-live/
END:VEVENT
END:VCALENDAR